BEGIN:VCALENDAR
VERSION:2.0
METHOD:PUBLISH
PRODID:-//imacoda.com//SPD-Web-O-Mat//EN
CALSCALE:GREGORIAN
BEGIN:VTIMEZONE
TZID:Europe/Berlin
BEGIN:DAYLIGHT
TZOFFSETFROM:+0100
RRULE:FREQ=YEARLY;BYMONTH=3;BYDAY=-1SU
DTSTART:19810329T020000
TZNAME:MESZ
TZOFFSETTO:+0200
END:DAYLIGHT
BEGIN:STANDARD
TZOFFSETFROM:+0200
RRULE:FREQ=YEARLY;BYMONTH=10;BYDAY=-1SU
DTSTART:19961027T030000
TZNAME:MEZ
TZOFFSETTO:+0100
END:STANDARD
END:VTIMEZONE
BEGIN:VEVENT
UID:20240120T135650Z-00000950646-LULU@www.bayernspd.de
CREATED:20240120T135650Z
LAST-MODIFIED:20240213T204755Z
DTSTAMP:20240213T204755Z
TRANSP:TRANSPARENT
DTSTART;TZID=Europe/Berlin:20240214T190000
DTEND;TZID=Europe/Berlin:20240214T220000
SUMMARY:Politischer Aschermittwoch 2024 mit Ronja Endres
LOCATION:Gasthaus Reif\, Ursensollen
DESCRIPTION:Termin im Web (SPD Ursensollen):\nhttps://spd-ursensollen.de
 /termine/?id=950646
END:VEVENT
END:VCALENDAR
